BEGIN:VCALENDAR
PRODID:-//eluceo/ical//2.0/EN
VERSION:2.0
CALSCALE:GREGORIAN
BEGIN:VEVENT
UID:dee9de5c71d4980252f49500440f1712
DTSTAMP:20260425T220927Z
SUMMARY:Erev of Rosh Hashanah at Temple Beth Israel Highland Park & Eagle R
 ock
DESCRIPTION:Jewish Federation of the Greater San Gabriel & Pomona Valleys\n
 COMMUNITY CALENDAR\nhttps://jewishsgpv.org/calendar/erev-of-rosh-hashanah-
 at-temple-beth-israel-highland-park-eagle-rock\n\n
DTSTART;TZID=America/Los_Angeles:20230915T190000
DTEND;TZID=America/Los_Angeles:20230915T210000
END:VEVENT
END:VCALENDAR
