BEGIN:VCALENDAR
PRODID:-//eluceo/ical//2.0/EN
VERSION:2.0
CALSCALE:GREGORIAN
BEGIN:VEVENT
UID:bbb7ef5ac062d9e089619d81b05f3485
DTSTAMP:20260424T184929Z
SUMMARY:End of Summer Family Concert
DESCRIPTION:Jewish Federation of the Greater San Gabriel & Pomona Valleys\n
 COMMUNITY CALENDAR\nhttps://jewishsgpv.org/calendar/end-of-summer-family-c
 oncert\n\nCLICK HERE TO RSVP
DTSTART;TZID=America/Los_Angeles:20200830T150000
DTEND;TZID=America/Los_Angeles:20200830T170000
END:VEVENT
END:VCALENDAR
