BEGIN:VCALENDAR
PRODID:-//eluceo/ical//2.0/EN
VERSION:2.0
CALSCALE:GREGORIAN
BEGIN:VEVENT
UID:212db9de40a538e88b1c2dfe740f1691
DTSTAMP:20260423T002645Z
SUMMARY:Dr. Marcia Falk in Person and on Zoom
DESCRIPTION:Jewish Federation of the Greater San Gabriel & Pomona Valleys\n
 COMMUNITY CALENDAR\nhttps://jewishsgpv.org/calendar/dr-marcia-falk-in-pers
 on-and-on-zoom\n\nDr. Marcia Falk\, in person and on Zoom\, discussing her
  new Haggadah\, Night of Beginnings: A Radical Re-Visioning of the Passove
 r Seder\n\nPresented by Riverside Temple Beth El\n\nRSVP: office@tberiv.o
 rg for Zoom link\n\n\nIn person and on Zoom.\n\nThis Haggadah returns to 
 the roots of the Passover festival with a full recounting of\, and origina
 l commentary on\, the Exodus story. This “radicalizing” of the seder
 —rooting it to its most ancient source\, which is largely absent from th
 e tra...
DTSTART;TZID=America/Los_Angeles:20220317T180000
DTEND;TZID=America/Los_Angeles:20220317T200000
END:VEVENT
END:VCALENDAR
