BEGIN:VCALENDAR
PRODID:-//eluceo/ical//2.0/EN
VERSION:2.0
CALSCALE:GREGORIAN
BEGIN:VEVENT
UID:7468a21985a655112a5c8a521d045c28
DTSTAMP:20260424T035536Z
SUMMARY:DIY Tzedakah Boxes and Gratitude Beads
DESCRIPTION:Jewish Federation of the Greater San Gabriel & Pomona Valleys\n
 COMMUNITY CALENDAR\nhttps://jewishsgpv.org/calendar/diy-tzedakah-boxes-and
 -gratitude-beads\n\nCelebrate the Jewish values of repairing the world and
  practicing gratitude! Join us to decorate tzedakah box and string gratitu
 de beads in honor of Jewish American Heritage Month. Suggested for all age
 s.
DTSTART;TZID=America/Los_Angeles:20260503T150000
DTEND;TZID=America/Los_Angeles:20260503T170000
END:VEVENT
END:VCALENDAR
