BEGIN:VCALENDAR
PRODID:-//eluceo/ical//2.0/EN
VERSION:2.0
CALSCALE:GREGORIAN
BEGIN:VEVENT
UID:22444456d9525fd13876ffdf430305ab
DTSTAMP:20260420T170043Z
SUMMARY:Shabbat Evening Services at Beth Shalom of Whittier
DESCRIPTION:Jewish Federation of the Greater San Gabriel & Pomona Valleys\n
 COMMUNITY CALENDAR\nhttps://jewishsgpv.org/calendar/december-6-shabbat-eve
 ning-services\n\nWe welcome you to our Shabbat Evening services conducted 
 by Rabbi Kenneth Milhander\, Hon DDiv.  An oneg will follow the service i
 n our foyer. 
DTSTART;TZID=America/Los_Angeles:20241206T193000
DTEND;TZID=America/Los_Angeles:20241206T204500
END:VEVENT
END:VCALENDAR
