BEGIN:VCALENDAR
PRODID:-//eluceo/ical//2.0/EN
VERSION:2.0
CALSCALE:GREGORIAN
BEGIN:VEVENT
UID:1129ef29a2eed9ae7f4eb819dd8b79d7
DTSTAMP:20260421T044353Z
SUMMARY:Shabbat Evening Services at Beth Shalom of Whittier
DESCRIPTION:Jewish Federation of the Greater San Gabriel & Pomona Valleys\n
 COMMUNITY CALENDAR\nhttps://jewishsgpv.org/calendar/december-20-shabbat-ev
 ening-services\n\nWe welcome you to our Shabbat Evening services conducted
  by Hazzan Lance H Tapper\, Hon DMus\, Spiritual Leader adn Ty Woodward\, 
 Organist.  An oneg will follow the service in our foyer. 
DTSTART;TZID=America/Los_Angeles:20241220T192500
DTEND;TZID=America/Los_Angeles:20241220T204500
END:VEVENT
END:VCALENDAR
