BEGIN:VCALENDAR
PRODID:-//eluceo/ical//2.0/EN
VERSION:2.0
CALSCALE:GREGORIAN
BEGIN:VEVENT
UID:9ad3220f03493f72c6be91c40b240b8a
DTSTAMP:20260420T092648Z
SUMMARY:Counting the Omer with Howard Rubin
DESCRIPTION:Jewish Federation of the Greater San Gabriel & Pomona Valleys\n
 COMMUNITY CALENDAR\nhttps://jewishsgpv.org/calendar/counting-the-omer-with
 -howard-rubin\n\nCounting the Omer with Howard Rubin\n\nPresented by River
 sideTemple Beth El\n\nRSVP: Email office@tberiv.org for the Zoom link\n\
 n \n\nHoward will explain and guide participants through the mitzvah of "
 Counting the Omer\," a practice that begins each year after the second nig
 ht of Passover and continues for 49 days until Shavuot. The ancient Kabali
 stic approach to this practice points us toward focusing our attention eac
 h week on one of the 10 Qualities on the "Tree of Life\,” and each day..
 .
DTSTART;TZID=America/Los_Angeles:20220417T170000
DTEND;TZID=America/Los_Angeles:20220417T180000
END:VEVENT
END:VCALENDAR
