BEGIN:VCALENDAR
PRODID:-//eluceo/ical//2.0/EN
VERSION:2.0
CALSCALE:GREGORIAN
BEGIN:VEVENT
UID:6ea3d809476d156abf6b58855f2221f9
DTSTAMP:20260424T204541Z
SUMMARY:Community-wide Security Training
DESCRIPTION:Jewish Federation of the Greater San Gabriel & Pomona Valleys\n
 COMMUNITY CALENDAR\nhttps://jewishsgpv.org/calendar/community-wide-securit
 y-training\n\n \n\nLearn how to stay safe and what to do in the event of 
 an attack\n\nJoin fellow community members for this extremely important se
 curity training. \n\nThis powerful interactive security training will be 
 provided in partnership with Secure Community Network. \nIt will include 
 a personal testimonial of a survivor from the Tree of Life synagogue\, vid
 eos\, and a time for Q&A. \n\nThe information learned during this trainin
 g can and will help make all of us safer.\n\nMust register below ...
DTSTART;TZID=America/Los_Angeles:20221109T193000
DTEND;TZID=America/Los_Angeles:20221109T210000
END:VEVENT
END:VCALENDAR
