BEGIN:VCALENDAR
PRODID:-//eluceo/ical//2.0/EN
VERSION:2.0
CALSCALE:GREGORIAN
BEGIN:VEVENT
UID:e76002ebfd1db3d791817ff61d1a4793
DTSTAMP:20260424T205317Z
SUMMARY:Community S’lichot
DESCRIPTION:Jewish Federation of the Greater San Gabriel & Pomona Valleys\n
 COMMUNITY CALENDAR\nhttps://jewishsgpv.org/calendar/community-slichot\n\nC
 LICK HERE TO REGISTER
DTSTART;TZID=America/Los_Angeles:20200912T193000
DTEND;TZID=America/Los_Angeles:20200912T210000
END:VEVENT
END:VCALENDAR
