BEGIN:VCALENDAR
PRODID:-//eluceo/ical//2.0/EN
VERSION:2.0
CALSCALE:GREGORIAN
BEGIN:VEVENT
UID:82768e93286f89750399692b86a5010e
DTSTAMP:20260420T093739Z
SUMMARY:Community Passover Seder
DESCRIPTION:Jewish Federation of the Greater San Gabriel & Pomona Valleys\n
 COMMUNITY CALENDAR\nhttps://jewishsgpv.org/calendar/community-passover-sed
 er\n\n
DTSTART;TZID=America/Los_Angeles:20240422T193000
DTEND;TZID=America/Los_Angeles:20240422T213000
END:VEVENT
END:VCALENDAR
