BEGIN:VCALENDAR
PRODID:-//eluceo/ical//2.0/EN
VERSION:2.0
CALSCALE:GREGORIAN
BEGIN:VEVENT
UID:dd82288f095ebcfcf1e2583b8d9d3d42
DTSTAMP:20260421T044620Z
SUMMARY:Community Outing: I'll Have What She's Having- The Jewish Deli
DESCRIPTION:Jewish Federation of the Greater San Gabriel & Pomona Valleys\n
 COMMUNITY CALENDAR\nhttps://jewishsgpv.org/calendar/community-outing-ill-h
 ave-what-shes-having-the-jewish-deli\n\n \n\n\n\nClick here to view the 
 itinerary and details\n\n \n\n\n\nClick here to register
DTSTART;TZID=America/Los_Angeles:20220825T113000
DTEND;TZID=America/Los_Angeles:20220825T143000
END:VEVENT
END:VCALENDAR
