BEGIN:VCALENDAR
PRODID:-//eluceo/ical//2.0/EN
VERSION:2.0
CALSCALE:GREGORIAN
BEGIN:VEVENT
UID:7924eb5b7201675ff758e01ed09cc193
DTSTAMP:20260424T202450Z
SUMMARY:Rosh Hashanah Community Dinner
DESCRIPTION:Jewish Federation of the Greater San Gabriel & Pomona Valleys\n
 COMMUNITY CALENDAR\nhttps://jewishsgpv.org/calendar/community-dinner\n\n
DTSTART;TZID=America/Los_Angeles:20230915T200000
DTEND;TZID=America/Los_Angeles:20230915T220000
END:VEVENT
END:VCALENDAR
