BEGIN:VCALENDAR
PRODID:-//eluceo/ical//2.0/EN
VERSION:2.0
CALSCALE:GREGORIAN
BEGIN:VEVENT
UID:8262ff1b60f7a071e0dd2eb526d12061
DTSTAMP:20260424T094718Z
SUMMARY:Claremont Public Menorah Lighting
DESCRIPTION:Jewish Federation of the Greater San Gabriel & Pomona Valleys\n
 COMMUNITY CALENDAR\nhttps://jewishsgpv.org/calendar/claremong-public-menor
 ah-lighting\n\n
DTSTART;TZID=America/Los_Angeles:20211130T063000
DTEND;TZID=America/Los_Angeles:20211130T083000
END:VEVENT
END:VCALENDAR
