BEGIN:VCALENDAR
PRODID:-//eluceo/ical//2.0/EN
VERSION:2.0
CALSCALE:GREGORIAN
BEGIN:VEVENT
UID:6ce9e655ffd241c695ae223689e8f4f8
DTSTAMP:20260422T015910Z
SUMMARY:Ckids Purim Mindcraft Celebration
DESCRIPTION:Jewish Federation of the Greater San Gabriel & Pomona Valleys\n
 COMMUNITY CALENDAR\nhttps://jewishsgpv.org/calendar/ckids-purim-mindcraft-
 celebration\n\n
DTSTART;TZID=America/Los_Angeles:20250309T100000
DTEND;TZID=America/Los_Angeles:20250309T120000
END:VEVENT
END:VCALENDAR
