BEGIN:VCALENDAR
PRODID:-//eluceo/ical//2.0/EN
VERSION:2.0
CALSCALE:GREGORIAN
BEGIN:VEVENT
UID:32f161336a46f12f674144f93098cf29
DTSTAMP:20260420T111950Z
SUMMARY:CKids Chanukah Block Party
DESCRIPTION:Jewish Federation of the Greater San Gabriel & Pomona Valleys\n
 COMMUNITY CALENDAR\nhttps://jewishsgpv.org/calendar/ckids-chanukah-block-p
 arty\n\n
DTSTART;TZID=America/Los_Angeles:20241222T100000
DTEND;TZID=America/Los_Angeles:20241222T120000
END:VEVENT
END:VCALENDAR
