BEGIN:VCALENDAR
PRODID:-//eluceo/ical//2.0/EN
VERSION:2.0
CALSCALE:GREGORIAN
BEGIN:VEVENT
UID:766f11c6e6397e75d2f38134c0532a50
DTSTAMP:20260419T181911Z
SUMMARY:chanukah festivals
DESCRIPTION:Jewish Federation of the Greater San Gabriel & Pomona Valleys\n
 COMMUNITY CALENDAR\nhttps://jewishsgpv.org/calendar/chanukah-festivals-cha
 bad-ie\n\n
DTSTART;TZID=America/Los_Angeles:20251218T183000
DTEND;TZID=America/Los_Angeles:20251218T210000
END:VEVENT
END:VCALENDAR
