BEGIN:VCALENDAR
PRODID:-//eluceo/ical//2.0/EN
VERSION:2.0
CALSCALE:GREGORIAN
BEGIN:VEVENT
UID:431f414ee5883aa083e8ee8d6ca9ad26
DTSTAMP:20260422T171350Z
SUMMARY:Chanukah Festivals
DESCRIPTION:Jewish Federation of the Greater San Gabriel & Pomona Valleys\n
 COMMUNITY CALENDAR\nhttps://jewishsgpv.org/calendar/chanukah-festivals\n\n
DTSTART;TZID=America/Los_Angeles:20221219T183000
DTEND;TZID=America/Los_Angeles:20221219T203000
END:VEVENT
END:VCALENDAR
