BEGIN:VCALENDAR
PRODID:-//eluceo/ical//2.0/EN
VERSION:2.0
CALSCALE:GREGORIAN
BEGIN:VEVENT
UID:109ca479c9430c92accf0501a1a00087
DTSTAMP:20260420T132631Z
SUMMARY:Chanukah festival
DESCRIPTION:Jewish Federation of the Greater San Gabriel & Pomona Valleys\n
 COMMUNITY CALENDAR\nhttps://jewishsgpv.org/calendar/chanukah-festival-chab
 ad\n\n
DTSTART;TZID=America/Los_Angeles:20241229T183000
DTEND;TZID=America/Los_Angeles:20241229T203000
END:VEVENT
END:VCALENDAR
