BEGIN:VCALENDAR
PRODID:-//eluceo/ical//2.0/EN
VERSION:2.0
CALSCALE:GREGORIAN
BEGIN:VEVENT
UID:e2d25f641a7e41f7bc57bfb6b43d4d1c
DTSTAMP:20260419T195715Z
SUMMARY:Chabad Chanukah Festivals
DESCRIPTION:Jewish Federation of the Greater San Gabriel & Pomona Valleys\n
 COMMUNITY CALENDAR\nhttps://jewishsgpv.org/calendar/chanukah-festival\n\n
DTSTART;TZID=America/Los_Angeles:20241226T183000
DTEND;TZID=America/Los_Angeles:20241226T203000
END:VEVENT
END:VCALENDAR
