BEGIN:VCALENDAR
PRODID:-//eluceo/ical//2.0/EN
VERSION:2.0
CALSCALE:GREGORIAN
BEGIN:VEVENT
UID:ab066460acecb6081e189e743c804229
DTSTAMP:20260423T074937Z
SUMMARY:Chabad Women's Circle Cheesecake
DESCRIPTION:Jewish Federation of the Greater San Gabriel & Pomona Valleys\n
 COMMUNITY CALENDAR\nhttps://jewishsgpv.org/calendar/chabadinlandempire-wom
 ens-circle-cheesecake\n\n
DTSTART;TZID=America/Los_Angeles:20210511T193000
DTEND;TZID=America/Los_Angeles:20210511T203000
END:VEVENT
END:VCALENDAR
