BEGIN:VCALENDAR
PRODID:-//eluceo/ical//2.0/EN
VERSION:2.0
CALSCALE:GREGORIAN
BEGIN:VEVENT
UID:d56c72a58b8da23158db4ceff2e286e5
DTSTAMP:20260421T045133Z
SUMMARY:Chabad Women's Circle Strudel
DESCRIPTION:Jewish Federation of the Greater San Gabriel & Pomona Valleys\n
 COMMUNITY CALENDAR\nhttps://jewishsgpv.org/calendar/chabad-womens-circle-s
 trudel\n\n
DTSTART;TZID=America/Los_Angeles:20230427T193000
DTEND;TZID=America/Los_Angeles:20230427T210000
END:VEVENT
END:VCALENDAR
