BEGIN:VCALENDAR
PRODID:-//eluceo/ical//2.0/EN
VERSION:2.0
CALSCALE:GREGORIAN
BEGIN:VEVENT
UID:f3ae9a709a7a5a756206764a032ba33c
DTSTAMP:20260420T191950Z
SUMMARY:Chabad Women's Circle Challah Baking
DESCRIPTION:Jewish Federation of the Greater San Gabriel & Pomona Valleys\n
 COMMUNITY CALENDAR\nhttps://jewishsgpv.org/calendar/chabad-womens-circle-c
 hallah-baking\n\n
DTSTART;TZID=America/Los_Angeles:20220915T193000
DTEND;TZID=America/Los_Angeles:20220915T210000
END:VEVENT
END:VCALENDAR
