BEGIN:VCALENDAR
PRODID:-//eluceo/ical//2.0/EN
VERSION:2.0
CALSCALE:GREGORIAN
BEGIN:VEVENT
UID:f8ee55737c3588025b04862bb5040dd5
DTSTAMP:20260421T021821Z
SUMMARY:Chabad Women's Circle Bourekas and Knishes
DESCRIPTION:Jewish Federation of the Greater San Gabriel & Pomona Valleys\n
 COMMUNITY CALENDAR\nhttps://jewishsgpv.org/calendar/chabad-womens-circle-b
 ourekas-and-knishes\n\n
DTSTART;TZID=America/Los_Angeles:20221117T193000
DTEND;TZID=America/Los_Angeles:20221117T210000
END:VEVENT
END:VCALENDAR
