BEGIN:VCALENDAR
PRODID:-//eluceo/ical//2.0/EN
VERSION:2.0
CALSCALE:GREGORIAN
BEGIN:VEVENT
UID:e5c016d9b683020bb262636b8d9bb8ad
DTSTAMP:20260420T184550Z
SUMMARY:Sukkot Mobile
DESCRIPTION:Jewish Federation of the Greater San Gabriel & Pomona Valleys\n
 COMMUNITY CALENDAR\nhttps://jewishsgpv.org/calendar/chabad-sukkot-mobile\n
 \n
DTSTART;TZID=America/Los_Angeles:20241021T100000
DTEND;TZID=America/Los_Angeles:20241021T150000
END:VEVENT
END:VCALENDAR
