BEGIN:VCALENDAR
PRODID:-//eluceo/ical//2.0/EN
VERSION:2.0
CALSCALE:GREGORIAN
BEGIN:VEVENT
UID:dc96a23723cd92688d37ba0a252888e7
DTSTAMP:20260425T121049Z
SUMMARY:Spa for the Soul
DESCRIPTION:Jewish Federation of the Greater San Gabriel & Pomona Valleys\n
 COMMUNITY CALENDAR\nhttps://jewishsgpv.org/calendar/chabad-spa-for-the-sou
 l\n\n
DTSTART;TZID=America/Los_Angeles:20240128T000000
DTEND;TZID=America/Los_Angeles:20240128T150000
END:VEVENT
END:VCALENDAR
