BEGIN:VCALENDAR
PRODID:-//eluceo/ical//2.0/EN
VERSION:2.0
CALSCALE:GREGORIAN
BEGIN:VEVENT
UID:5d532abdcbe9fe3d9232edfc825123b0
DTSTAMP:20260420T153114Z
SUMMARY:Chabad Purim Dinner
DESCRIPTION:Jewish Federation of the Greater San Gabriel & Pomona Valleys\n
 COMMUNITY CALENDAR\nhttps://jewishsgpv.org/calendar/chabad-purim-dinner\n\
 n
DTSTART;TZID=America/Los_Angeles:20220317T180000
DTEND;TZID=America/Los_Angeles:20220317T210000
END:VEVENT
END:VCALENDAR
