BEGIN:VCALENDAR
PRODID:-//eluceo/ical//2.0/EN
VERSION:2.0
CALSCALE:GREGORIAN
BEGIN:VEVENT
UID:27d073a7de24ffa0ea8e80b389de00c7
DTSTAMP:20260423T223515Z
SUMMARY:Community Passover Seder
DESCRIPTION:Jewish Federation of the Greater San Gabriel & Pomona Valleys\n
 COMMUNITY CALENDAR\nhttps://jewishsgpv.org/calendar/chabad-passover-seder\
 n\n
DTSTART;TZID=America/Los_Angeles:20250412T073000
DTEND;TZID=America/Los_Angeles:20250412T220000
END:VEVENT
END:VCALENDAR
