BEGIN:VCALENDAR
PRODID:-//eluceo/ical//2.0/EN
VERSION:2.0
CALSCALE:GREGORIAN
BEGIN:VEVENT
UID:5a5a914565597dd51e231686ce245444
DTSTAMP:20260424T173735Z
SUMMARY:Chabad Inland Empire Women's Spa for the Soul
DESCRIPTION:Jewish Federation of the Greater San Gabriel & Pomona Valleys\n
 COMMUNITY CALENDAR\nhttps://jewishsgpv.org/calendar/chabad-inland-empire-w
 omens-spa-for-the-soul\n\n
DTSTART;TZID=America/Los_Angeles:20220206T000000
DTEND;TZID=America/Los_Angeles:20220206T150000
END:VEVENT
END:VCALENDAR
