BEGIN:VCALENDAR
PRODID:-//eluceo/ical//2.0/EN
VERSION:2.0
CALSCALE:GREGORIAN
BEGIN:VEVENT
UID:b0d3ab0e63d62d62f6e354f39b628f6e
DTSTAMP:20260424T081428Z
SUMMARY:Chabad Inland Empire Rosh Hashanah Community Dinner
DESCRIPTION:Jewish Federation of the Greater San Gabriel & Pomona Valleys\n
 COMMUNITY CALENDAR\nhttps://jewishsgpv.org/calendar/chabad-inland-empire-r
 osh-hashanah-community-dinner\n\nJoin us as we celebrate the new year with
  traditional holiday foods\, customs and holiday insights.
DTSTART;TZID=America/Los_Angeles:20210906T193000
DTEND;TZID=America/Los_Angeles:20210906T220000
END:VEVENT
END:VCALENDAR
