BEGIN:VCALENDAR
PRODID:-//eluceo/ical//2.0/EN
VERSION:2.0
CALSCALE:GREGORIAN
BEGIN:VEVENT
UID:7495d76f5589a15b29dc193e92d0b197
DTSTAMP:20260423T041941Z
SUMMARY:bagel babies
DESCRIPTION:Jewish Federation of the Greater San Gabriel & Pomona Valleys\n
 COMMUNITY CALENDAR\nhttps://jewishsgpv.org/calendar/chabad-inland-empire-b
 agel-babies\n\n
DTSTART;TZID=America/Los_Angeles:20231217T100000
DTEND;TZID=America/Los_Angeles:20231217T120000
END:VEVENT
END:VCALENDAR
