BEGIN:VCALENDAR
PRODID:-//eluceo/ical//2.0/EN
VERSION:2.0
CALSCALE:GREGORIAN
BEGIN:VEVENT
UID:5d6672cceaabb43dee2da83042d9d141
DTSTAMP:20260425T224748Z
SUMMARY:Chabad Chanukah Festivals
DESCRIPTION:Jewish Federation of the Greater San Gabriel & Pomona Valleys\n
 COMMUNITY CALENDAR\nhttps://jewishsgpv.org/calendar/chabad-ie-chanukah-fes
 tival\n\n
DTSTART;TZID=America/Los_Angeles:20231214T183000
DTEND;TZID=America/Los_Angeles:20231214T210000
END:VEVENT
END:VCALENDAR
