BEGIN:VCALENDAR
PRODID:-//eluceo/ical//2.0/EN
VERSION:2.0
CALSCALE:GREGORIAN
BEGIN:VEVENT
UID:40968807712ed3782caae938dce43b3c
DTSTAMP:20260422T121256Z
SUMMARY:Chabad Family Sukkot Lunch
DESCRIPTION:Jewish Federation of the Greater San Gabriel & Pomona Valleys\n
 COMMUNITY CALENDAR\nhttps://jewishsgpv.org/calendar/chabad-family-sukkot-l
 unch\n\n
DTSTART;TZID=America/Los_Angeles:20231001T100000
DTEND;TZID=America/Los_Angeles:20231001T120000
END:VEVENT
END:VCALENDAR
