BEGIN:VCALENDAR
PRODID:-//eluceo/ical//2.0/EN
VERSION:2.0
CALSCALE:GREGORIAN
BEGIN:VEVENT
UID:98f0dee21ee09bea9d52fdf9709a7414
DTSTAMP:20260419T182046Z
SUMMARY:chanukah festivals
DESCRIPTION:Jewish Federation of the Greater San Gabriel & Pomona Valleys\n
 COMMUNITY CALENDAR\nhttps://jewishsgpv.org/calendar/chabad-chanukah-festiv
 als-chabad-inland-empire\n\n
DTSTART;TZID=America/Los_Angeles:20251221T183000
DTEND;TZID=America/Los_Angeles:20251221T210000
END:VEVENT
END:VCALENDAR
