BEGIN:VCALENDAR
PRODID:-//eluceo/ical//2.0/EN
VERSION:2.0
CALSCALE:GREGORIAN
BEGIN:VEVENT
UID:0847107ce3b35b4e5865beb8a78142be
DTSTAMP:20260424T075009Z
SUMMARY:Chabad Chanukah Festivals
DESCRIPTION:Jewish Federation of the Greater San Gabriel & Pomona Valleys\n
 COMMUNITY CALENDAR\nhttps://jewishsgpv.org/calendar/chabad-chanukah-festiv
 als\n\n
DTSTART;TZID=America/Los_Angeles:20231207T183000
DTEND;TZID=America/Los_Angeles:20231207T210000
END:VEVENT
END:VCALENDAR
