BEGIN:VCALENDAR
PRODID:-//eluceo/ical//2.0/EN
VERSION:2.0
CALSCALE:GREGORIAN
BEGIN:VEVENT
UID:60c8a18885f540940fbc22857f92c1ca
DTSTAMP:20260419T182124Z
SUMMARY:Chanukah Festival
DESCRIPTION:Jewish Federation of the Greater San Gabriel & Pomona Valleys\n
 COMMUNITY CALENDAR\nhttps://jewishsgpv.org/calendar/chabad-chanukah-festiv
 al-24\n\n
DTSTART;TZID=America/Los_Angeles:20241230T063000
DTEND;TZID=America/Los_Angeles:20241230T083000
END:VEVENT
END:VCALENDAR
