BEGIN:VCALENDAR
PRODID:-//eluceo/ical//2.0/EN
VERSION:2.0
CALSCALE:GREGORIAN
BEGIN:VEVENT
UID:8cb03fb9782d158e4bb24100eb5c722f
DTSTAMP:20260420T132611Z
SUMMARY:Chabad Chanukah Festivals
DESCRIPTION:Jewish Federation of the Greater San Gabriel & Pomona Valleys\n
 COMMUNITY CALENDAR\nhttps://jewishsgpv.org/calendar/chabad-chanukah-festiv
 al\n\n
DTSTART;TZID=America/Los_Angeles:20231211T183000
DTEND;TZID=America/Los_Angeles:20231211T210000
END:VEVENT
END:VCALENDAR
