BEGIN:VCALENDAR
PRODID:-//eluceo/ical//2.0/EN
VERSION:2.0
CALSCALE:GREGORIAN
BEGIN:VEVENT
UID:64378b7eb3b4e1ddeb163d62108299f0
DTSTAMP:20260420T222934Z
SUMMARY:bagel babies
DESCRIPTION:Jewish Federation of the Greater San Gabriel & Pomona Valleys\n
 COMMUNITY CALENDAR\nhttps://jewishsgpv.org/calendar/chabad-bagel-babies-in
 land-empire\n\n
DTSTART;TZID=America/Los_Angeles:20240407T103000
DTEND;TZID=America/Los_Angeles:20240407T113000
END:VEVENT
END:VCALENDAR
