BEGIN:VCALENDAR
PRODID:-//eluceo/ical//2.0/EN
VERSION:2.0
CALSCALE:GREGORIAN
BEGIN:VEVENT
UID:77de62bcd29986fc92893e0525129c03
DTSTAMP:20260420T232839Z
SUMMARY:Bagel Babies
DESCRIPTION:Jewish Federation of the Greater San Gabriel & Pomona Valleys\n
 COMMUNITY CALENDAR\nhttps://jewishsgpv.org/calendar/chabad-bagel-babies\n\
 n
DTSTART;TZID=America/Los_Angeles:20231022T100000
DTEND;TZID=America/Los_Angeles:20231022T120000
END:VEVENT
END:VCALENDAR
