BEGIN:VCALENDAR
PRODID:-//eluceo/ical//2.0/EN
VERSION:2.0
CALSCALE:GREGORIAN
BEGIN:VEVENT
UID:25385b84f8a65d808609d25115fe3928
DTSTAMP:20260424T070248Z
SUMMARY:Celebrating Aging With Rabbi Laura Geller
DESCRIPTION:Jewish Federation of the Greater San Gabriel & Pomona Valleys\n
 COMMUNITY CALENDAR\nhttps://jewishsgpv.org/calendar/celebrating-aging\n\nP
 lease join Rabbi Laura Geller\, Rabbi Emerita at Temple Emanuel of Beverly
  Hills and co-author of Getting Good at Getting Older\, in conversation wi
 th PJTC congregants\, Cantor John Guest\, Ellen Dinerman\, and Sheila Padl
 ipsky\, who have successfully embraced major life changes in the past few 
 years.\n\n \n\nSunday\, February 26\, 2023 at 5:00PM\n\nRefreshments will
  be served\, and Rabbi Geller's book will be available for purchase\n\n \
 n\nWOHLMAN HALL at PASADENA JEWISH TEMPLE & CENTER\n\n1434 N ...
DTSTART;TZID=America/Los_Angeles:20230226T170000
DTEND;TZID=America/Los_Angeles:20230226T190000
END:VEVENT
END:VCALENDAR
