BEGIN:VCALENDAR
PRODID:-//eluceo/ical//2.0/EN
VERSION:2.0
CALSCALE:GREGORIAN
BEGIN:VEVENT
UID:c8737ae5b0ee7589debba4b3be34489f
DTSTAMP:20260421T030831Z
SUMMARY:Camp Gan Shalom
DESCRIPTION:Jewish Federation of the Greater San Gabriel & Pomona Valleys\n
 COMMUNITY CALENDAR\nhttps://jewishsgpv.org/calendar/camp-gan-shalom_w2\n\n
DTSTART;TZID=America/Los_Angeles:20230620T000000
DTEND;TZID=America/Los_Angeles:20230623T235959
END:VEVENT
END:VCALENDAR
