BEGIN:VCALENDAR
PRODID:-//eluceo/ical//2.0/EN
VERSION:2.0
CALSCALE:GREGORIAN
BEGIN:VEVENT
UID:cc4da5a3551354351a2e10685a7abba1
DTSTAMP:20260425T224932Z
SUMMARY:Camp Gan Shalom at TBI Pomona
DESCRIPTION:Jewish Federation of the Greater San Gabriel & Pomona Valleys\n
 COMMUNITY CALENDAR\nhttps://jewishsgpv.org/calendar/camp-gan-shalom-at-tbi
 -pomona-w8\n\n
DTSTART;TZID=America/Los_Angeles:20240729T000000
DTEND;TZID=America/Los_Angeles:20240802T235959
END:VEVENT
END:VCALENDAR
