BEGIN:VCALENDAR
PRODID:-//eluceo/ical//2.0/EN
VERSION:2.0
CALSCALE:GREGORIAN
BEGIN:VEVENT
UID:4fa32e9d78c55f29763916ce015fd14f
DTSTAMP:20260424T144625Z
SUMMARY:Camp Gan Shalom at TBI Pomona
DESCRIPTION:Jewish Federation of the Greater San Gabriel & Pomona Valleys\n
 COMMUNITY CALENDAR\nhttps://jewishsgpv.org/calendar/camp-gan-shalom-at-tbi
 -pomona\n\n
DTSTART;TZID=America/Los_Angeles:20240722T000000
DTEND;TZID=America/Los_Angeles:20240726T235959
END:VEVENT
END:VCALENDAR
