BEGIN:VCALENDAR
PRODID:-//eluceo/ical//2.0/EN
VERSION:2.0
CALSCALE:GREGORIAN
BEGIN:VEVENT
UID:523ebd9a9cd0216fa94d3e6ecd0cbd93
DTSTAMP:20260419T143359Z
SUMMARY:Camp-Gan-Israel
DESCRIPTION:Jewish Federation of the Greater San Gabriel & Pomona Valleys\n
 COMMUNITY CALENDAR\nhttps://jewishsgpv.org/calendar/camp-gan-israel-chabad
 \n\n
DTSTART;TZID=America/Los_Angeles:20250624T090000
DTEND;TZID=America/Los_Angeles:20250624T150000
END:VEVENT
END:VCALENDAR
