BEGIN:VCALENDAR
PRODID:-//eluceo/ical//2.0/EN
VERSION:2.0
CALSCALE:GREGORIAN
BEGIN:VEVENT
UID:2af94d48ebb557eedf8ca1a18d1c5831
DTSTAMP:20260425T185408Z
SUMMARY:Caffeine for the Soul
DESCRIPTION:Jewish Federation of the Greater San Gabriel & Pomona Valleys\n
 COMMUNITY CALENDAR\nhttps://jewishsgpv.org/calendar/caffeine-for-the-soul-
 inland-empire\n\n
DTSTART;TZID=America/Los_Angeles:20220104T110000
DTEND;TZID=America/Los_Angeles:20220104T120000
END:VEVENT
END:VCALENDAR
