BEGIN:VCALENDAR
PRODID:-//eluceo/ical//2.0/EN
VERSION:2.0
CALSCALE:GREGORIAN
BEGIN:VEVENT
UID:0048f2f4e6bd6acd2c2af887b976b28d
DTSTAMP:20260425T185458Z
SUMMARY:Caffeine for the Soul - Chabad Women's Circle
DESCRIPTION:Jewish Federation of the Greater San Gabriel & Pomona Valleys\n
 COMMUNITY CALENDAR\nhttps://jewishsgpv.org/calendar/caffeine-for-the-soul-
 chabad-womens-circle\n\n
DTSTART;TZID=America/Los_Angeles:20201006T110000
DTEND;TZID=America/Los_Angeles:20201006T120000
END:VEVENT
END:VCALENDAR
