BEGIN:VCALENDAR
PRODID:-//eluceo/ical//2.0/EN
VERSION:2.0
CALSCALE:GREGORIAN
BEGIN:VEVENT
UID:48029915049f4534486273c647330819
DTSTAMP:20260420T184520Z
SUMMARY:Caffeine for the Soul
DESCRIPTION:Jewish Federation of the Greater San Gabriel & Pomona Valleys\n
 COMMUNITY CALENDAR\nhttps://jewishsgpv.org/calendar/caffeine-for-the-soul\
 n\n
DTSTART;TZID=America/Los_Angeles:20211207T113000
DTEND;TZID=America/Los_Angeles:20211207T120000
END:VEVENT
END:VCALENDAR
