BEGIN:VCALENDAR
PRODID:-//eluceo/ical//2.0/EN
VERSION:2.0
CALSCALE:GREGORIAN
BEGIN:VEVENT
UID:81c1d567066bc1c25fef2e1098c61413
DTSTAMP:20260424T232217Z
SUMMARY:Outdoor Menorah Lighting and Menorah Car Parade at Ontario Town Squ
 are
DESCRIPTION:Jewish Federation of the Greater San Gabriel & Pomona Valleys\n
 COMMUNITY CALENDAR\nhttps://jewishsgpv.org/calendar/c\n\nOutdoor Menorah L
 ighting at Ontario Town Square\, followed by a Menorah Car Parade
DTSTART;TZID=America/Los_Angeles:20201210T183000
DTEND;TZID=America/Los_Angeles:20201210T200000
END:VEVENT
END:VCALENDAR
