BEGIN:VCALENDAR
PRODID:-//eluceo/ical//2.0/EN
VERSION:2.0
CALSCALE:GREGORIAN
BEGIN:VEVENT
UID:0a6af10645ea8cd66d662dd90310b779
DTSTAMP:20260421T045235Z
SUMMARY:Building Good Tents: Dr. Ron Wolfson - PJTC
DESCRIPTION:Jewish Federation of the Greater San Gabriel & Pomona Valleys\n
 COMMUNITY CALENDAR\nhttps://jewishsgpv.org/calendar/building-good-tents-dr
 -ron-wolfson-pjtc\n\n
DTSTART;TZID=America/Los_Angeles:20220227T103000
DTEND;TZID=America/Los_Angeles:20220227T113000
END:VEVENT
END:VCALENDAR
