BEGIN:VCALENDAR
PRODID:-//eluceo/ical//2.0/EN
VERSION:2.0
CALSCALE:GREGORIAN
BEGIN:VEVENT
UID:f8c27faead95ad6ee1193fb709f914d9
DTSTAMP:20260425T224831Z
SUMMARY:Bring in the Light - Hanukkah Family Concert
DESCRIPTION:Jewish Federation of the Greater San Gabriel & Pomona Valleys\n
 COMMUNITY CALENDAR\nhttps://jewishsgpv.org/calendar/bring-in-the-light-han
 ukkah-family-concert\n\n
DTSTART;TZID=America/Los_Angeles:20231213T170000
DTEND;TZID=America/Los_Angeles:20231213T190000
END:VEVENT
END:VCALENDAR
