BEGIN:VCALENDAR
PRODID:-//eluceo/ical//2.0/EN
VERSION:2.0
CALSCALE:GREGORIAN
BEGIN:VEVENT
UID:808219c6843157981d8520cbe5d7172b
DTSTAMP:20260422T212911Z
SUMMARY:B'nai Simcha: Caregiver and Me Music Class
DESCRIPTION:Jewish Federation of the Greater San Gabriel & Pomona Valleys\n
 COMMUNITY CALENDAR\nhttps://jewishsgpv.org/calendar/bnai-simchacaregiver-a
 nd-me-music-class\n\n
DTSTART;TZID=America/Los_Angeles:20220718T093000
DTEND;TZID=America/Los_Angeles:20220718T103000
END:VEVENT
END:VCALENDAR
